BEGIN:VCALENDAR
VERSION:2.0
PRODID:-//ChamberMaster//Event Calendar 2.0//EN
METHOD:PUBLISH
X-PUBLISHED-TTL:P3D
REFRESH-INTERVAL:P3D
CALSCALE:GREGORIAN
BEGIN:VEVENT
DTSTART:20220621T123000Z
DTEND:20220621T140000Z
X-MICROSOFT-CDO-ALLDAYEVENT:FALSE
SUMMARY:Business Before Hours
DESCRIPTION:Start your day off right with some terrific networking.
X-ALT-DESC;FMTTYPE=text/html:Start your day off right with some terrific networking.
LOCATION:RBank 50 W FM 487 Jarrell\, TX 76537
UID:e.2474.1279
SEQUENCE:3
DTSTAMP:20260421T140733Z
URL:http://jarrellcoc.chambermaster.com/events/details/business-before-hours-1279
END:VEVENT

END:VCALENDAR
