BEGIN:VCALENDAR
VERSION:2.0
PRODID:-//ChamberMaster//Event Calendar 2.0//EN
METHOD:PUBLISH
X-PUBLISHED-TTL:P3D
REFRESH-INTERVAL:P3D
CALSCALE:GREGORIAN
BEGIN:VEVENT
DTSTART:20210324T163000Z
DTEND:20210324T180000Z
X-MICROSOFT-CDO-ALLDAYEVENT:FALSE
SUMMARY:Monthly Networking Luncheon
DESCRIPTION:Held monthly on the third Wednesday of each month from 11:30 a.m. to 1 p.m.  This is the Chamber's largest monthly event. These educational\, networking luncheons focus on topics of interest to our members. Members attending for the first time are given 30 seconds to talk about their business.
X-ALT-DESC;FMTTYPE=text/html:Held monthly on the third Wednesday of each month from 11:30 a.m. to 1 p.m. &nbsp\;This is the Chamber&#39\;s largest monthly event. These educational\, networking luncheons focus on topics of interest to our members. Members attending for the first time are given 30 seconds to talk about their business.
LOCATION:502 N 5th St. Jarrell\, TX 76537
UID:e.2474.877
SEQUENCE:3
DTSTAMP:20260424T230026Z
URL:http://jarrellcoc.chambermaster.com/events/details/monthly-networking-luncheon-877
END:VEVENT

END:VCALENDAR
